BEGIN:VCALENDAR
VERSION:2.0
PRODID:-//Nebraska Society, Sons of the American Revolution - ECPv6.15.20//NONSGML v1.0//EN
CALSCALE:GREGORIAN
METHOD:PUBLISH
X-WR-CALNAME:Nebraska Society, Sons of the American Revolution
X-ORIGINAL-URL:https://nebraskasar.org
X-WR-CALDESC:Events for Nebraska Society, Sons of the American Revolution
REFRESH-INTERVAL;VALUE=DURATION:PT1H
X-Robots-Tag:noindex
X-PUBLISHED-TTL:PT1H
BEGIN:VTIMEZONE
TZID:UTC
BEGIN:STANDARD
TZOFFSETFROM:+0000
TZOFFSETTO:+0000
TZNAME:UTC
DTSTART:20230101T000000
END:STANDARD
END:VTIMEZONE
BEGIN:VEVENT
DTSTART;TZID=UTC:20241003T000000
DTEND;TZID=UTC:20241005T235959
DTSTAMP:20260424T152434
CREATED:20240914T205209Z
LAST-MODIFIED:20240914T205209Z
UID:275-1727913600-1728172799@nebraskasar.org
SUMMARY:Fall Leadership Meetings
DESCRIPTION:
URL:https://nebraskasar.org/event/fall-leadership-meetings/
LOCATION:The Galt House Hotel\, 140 N Fourth St\, Louisville\, KY\, 40202\, United States
CATEGORIES:National Event
END:VEVENT
END:VCALENDAR