BEGIN:VCALENDAR
VERSION:2.0
PRODID:-//Nebraska Society, Sons of the American Revolution - ECPv6.15.20//NONSGML v1.0//EN
CALSCALE:GREGORIAN
METHOD:PUBLISH
X-ORIGINAL-URL:https://nebraskasar.org
X-WR-CALDESC:Events for Nebraska Society, Sons of the American Revolution
REFRESH-INTERVAL;VALUE=DURATION:PT1H
X-Robots-Tag:noindex
X-PUBLISHED-TTL:PT1H
BEGIN:VTIMEZONE
TZID:UTC
BEGIN:STANDARD
TZOFFSETFROM:+0000
TZOFFSETTO:+0000
TZNAME:UTC
DTSTART:20240101T000000
END:STANDARD
END:VTIMEZONE
BEGIN:VEVENT
DTSTART;TZID=UTC:20250525T100000
DTEND;TZID=UTC:20250525T170000
DTSTAMP:20260424T061601
CREATED:20250323T213318Z
LAST-MODIFIED:20250323T213738Z
UID:598-1748167200-1748192400@nebraskasar.org
SUMMARY:Battle of Fort San Carlos Commemoration and Patriot Grave Marking
DESCRIPTION:
URL:https://nebraskasar.org/event/battle-of-fort-san-carlos-commemoration-and-patriot-grave-marking/
LOCATION:Ste. Genevieve\, Missouri\, Ste. Genevieve\, MO\, United States
CATEGORIES:Color Guard
END:VEVENT
END:VCALENDAR