BEGIN:VCALENDAR
VERSION:2.0
PRODID:-//Nebraska Society, Sons of the American Revolution - ECPv6.15.20//NONSGML v1.0//EN
CALSCALE:GREGORIAN
METHOD:PUBLISH
X-ORIGINAL-URL:https://nebraskasar.org
X-WR-CALDESC:Events for Nebraska Society, Sons of the American Revolution
REFRESH-INTERVAL;VALUE=DURATION:PT1H
X-Robots-Tag:noindex
X-PUBLISHED-TTL:PT1H
BEGIN:VTIMEZONE
TZID:UTC
BEGIN:STANDARD
TZOFFSETFROM:+0000
TZOFFSETTO:+0000
TZNAME:UTC
DTSTART:20240101T000000
END:STANDARD
END:VTIMEZONE
BEGIN:VEVENT
DTSTART;TZID=UTC:20251116T140000
DTEND;TZID=UTC:20251116T160000
DTSTAMP:20260423T223238
CREATED:20251109T192619Z
LAST-MODIFIED:20251109T192619Z
UID:785-1763301600-1763308800@nebraskasar.org
SUMMARY:Lincoln Veteran's Day Parade
DESCRIPTION:
URL:https://nebraskasar.org/event/lincoln-veterans-day-parade-2/
LOCATION:Downtown Lincoln\, 21st & K St\, Lincoln\, NE\, United States
CATEGORIES:Color Guard
END:VEVENT
END:VCALENDAR