BEGIN:VCALENDAR
VERSION:2.0
PRODID:-//Nebraska Society, Sons of the American Revolution - ECPv6.15.20//NONSGML v1.0//EN
CALSCALE:GREGORIAN
METHOD:PUBLISH
X-ORIGINAL-URL:https://nebraskasar.org
X-WR-CALDESC:Events for Nebraska Society, Sons of the American Revolution
REFRESH-INTERVAL;VALUE=DURATION:PT1H
X-Robots-Tag:noindex
X-PUBLISHED-TTL:PT1H
BEGIN:VTIMEZONE
TZID:UTC
BEGIN:STANDARD
TZOFFSETFROM:+0000
TZOFFSETTO:+0000
TZNAME:UTC
DTSTART:20230101T000000
END:STANDARD
END:VTIMEZONE
BEGIN:VEVENT
DTSTART;TZID=UTC:20241110T140000
DTEND;TZID=UTC:20241110T160000
DTSTAMP:20260424T152603
CREATED:20241001T004601Z
LAST-MODIFIED:20241001T143632Z
UID:399-1731247200-1731254400@nebraskasar.org
SUMMARY:Lincoln Veteran's Day Parade
DESCRIPTION:
URL:https://nebraskasar.org/event/lincoln-veterans-day-parade/
LOCATION:Downtown Lincoln\, 21st & K St\, Lincoln\, NE\, United States
CATEGORIES:Color Guard,State Event
END:VEVENT
END:VCALENDAR