BEGIN:VCALENDAR
VERSION:2.0
PRODID:-//Nebraska Society, Sons of the American Revolution - ECPv6.15.20//NONSGML v1.0//EN
CALSCALE:GREGORIAN
METHOD:PUBLISH
X-WR-CALNAME:Nebraska Society, Sons of the American Revolution
X-ORIGINAL-URL:https://nebraskasar.org
X-WR-CALDESC:Events for Nebraska Society, Sons of the American Revolution
REFRESH-INTERVAL;VALUE=DURATION:PT1H
X-Robots-Tag:noindex
X-PUBLISHED-TTL:PT1H
BEGIN:VTIMEZONE
TZID:UTC
BEGIN:STANDARD
TZOFFSETFROM:+0000
TZOFFSETTO:+0000
TZNAME:UTC
DTSTART:20230101T000000
END:STANDARD
END:VTIMEZONE
BEGIN:VEVENT
DTSTART;TZID=UTC:20260404T110000
DTEND;TZID=UTC:20260404T120000
DTSTAMP:20260423T174214
CREATED:20260106T051457Z
LAST-MODIFIED:20260106T051457Z
UID:827-1775300400-1775304000@nebraskasar.org
SUMMARY:Lincoln Chapter Meeting
DESCRIPTION:
URL:https://nebraskasar.org/event/lincoln-chapter-meeting-17/
LOCATION:Gere Branch Library\, 2400 S 56th St\, Lincoln\, NE\, 68506
CATEGORIES:Lincoln Chapter
END:VEVENT
BEGIN:VEVENT
DTSTART;TZID=UTC:20260307T110000
DTEND;TZID=UTC:20260307T120000
DTSTAMP:20260423T174214
CREATED:20260106T050455Z
LAST-MODIFIED:20260106T050545Z
UID:823-1772881200-1772884800@nebraskasar.org
SUMMARY:Lincoln Chapter Meeting
DESCRIPTION:
URL:https://nebraskasar.org/event/lincoln-chapter-meeting-16/
LOCATION:Gere Branch Library\, 2400 S 56th St\, Lincoln\, NE\, 68506
CATEGORIES:Lincoln Chapter
END:VEVENT
BEGIN:VEVENT
DTSTART;TZID=UTC:20260221T110000
DTEND;TZID=UTC:20260221T130000
DTSTAMP:20260423T174214
CREATED:20260106T045433Z
LAST-MODIFIED:20260106T050727Z
UID:820-1771671600-1771678800@nebraskasar.org
SUMMARY:American Heritage Banquet
DESCRIPTION:Celebrate America’s history over lunch with members of Nebraska’s many lineage societies.  This year’s keynote speaker will be Thomas King who will deliver a presentation on Col. Thomas Doane\, a successful railroad businessman and founder of Crete\, NE and Doane College.
URL:https://nebraskasar.org/event/american-heritage-banquet-2/
LOCATION:St. Mark’s Methodis Church\, 8550 Pioneers Boulevard\, Lincoln\, NE\, 68520\, United States
CATEGORIES:Lincoln Chapter
END:VEVENT
BEGIN:VEVENT
DTSTART;TZID=UTC:20260207T110000
DTEND;TZID=UTC:20260207T120000
DTSTAMP:20260423T174214
CREATED:20260106T044130Z
LAST-MODIFIED:20260106T050822Z
UID:814-1770462000-1770465600@nebraskasar.org
SUMMARY:Lincoln Chapter Meeting
DESCRIPTION:
URL:https://nebraskasar.org/event/lincoln-chapter-meeting-15/
LOCATION:Gere Branch Library\, 2400 S 56th St\, Lincoln\, NE\, 68506
CATEGORIES:Lincoln Chapter
END:VEVENT
BEGIN:VEVENT
DTSTART;TZID=UTC:20260103T110000
DTEND;TZID=UTC:20260103T120000
DTSTAMP:20260423T174214
CREATED:20260106T043953Z
LAST-MODIFIED:20260106T050624Z
UID:812-1767438000-1767441600@nebraskasar.org
SUMMARY:Lincoln Chapter Meeting
DESCRIPTION:
URL:https://nebraskasar.org/event/lincoln-chapter-meeting-14/
LOCATION:Gere Branch Library\, 2400 S 56th St\, Lincoln\, NE\, 68506
CATEGORIES:Lincoln Chapter
END:VEVENT
BEGIN:VEVENT
DTSTART;TZID=UTC:20251206T110000
DTEND;TZID=UTC:20251206T130000
DTSTAMP:20260423T174214
CREATED:20251109T193017Z
LAST-MODIFIED:20251109T193017Z
UID:791-1765018800-1765026000@nebraskasar.org
SUMMARY:Lincoln Chapter Meeting
DESCRIPTION:
URL:https://nebraskasar.org/event/lincoln-chapter-meeting-13/
LOCATION:Gere Branch Library\, 2400 S 56th St\, Lincoln\, NE\, 68506
CATEGORIES:Lincoln Chapter
END:VEVENT
BEGIN:VEVENT
DTSTART;TZID=UTC:20250906T110000
DTEND;TZID=UTC:20250906T130000
DTSTAMP:20260423T174214
CREATED:20250614T163955Z
LAST-MODIFIED:20250614T163955Z
UID:663-1757156400-1757163600@nebraskasar.org
SUMMARY:Lincoln Chapter Meeting
DESCRIPTION:
URL:https://nebraskasar.org/event/lincoln-chapter-meeting-12/
LOCATION:Gere Branch Library\, 2400 S 56th St\, Lincoln\, NE\, 68506
CATEGORIES:Lincoln Chapter
END:VEVENT
BEGIN:VEVENT
DTSTART;TZID=UTC:20250802T110000
DTEND;TZID=UTC:20250802T130000
DTSTAMP:20260423T174214
CREATED:20250614T163522Z
LAST-MODIFIED:20250614T163522Z
UID:655-1754132400-1754139600@nebraskasar.org
SUMMARY:Lincoln Chapter Meeting
DESCRIPTION:
URL:https://nebraskasar.org/event/lincoln-chapter-meeting-11/
LOCATION:Gere Branch Library\, 2400 S 56th St\, Lincoln\, NE\, 68506
CATEGORIES:Lincoln Chapter
END:VEVENT
BEGIN:VEVENT
DTSTART;TZID=UTC:20250503T110000
DTEND;TZID=UTC:20250503T130000
DTSTAMP:20260423T174214
CREATED:20250323T212851Z
LAST-MODIFIED:20250323T212851Z
UID:590-1746270000-1746277200@nebraskasar.org
SUMMARY:Lincoln Chapter Meeting
DESCRIPTION:
URL:https://nebraskasar.org/event/lincoln-chapter-meeting-9/
LOCATION:Gere Branch Library\, 2400 S 56th St\, Lincoln\, NE\, 68506
CATEGORIES:Lincoln Chapter
END:VEVENT
BEGIN:VEVENT
DTSTART;TZID=UTC:20250405T110000
DTEND;TZID=UTC:20250405T130000
DTSTAMP:20260423T174214
CREATED:20250323T212035Z
LAST-MODIFIED:20250323T212035Z
UID:577-1743850800-1743858000@nebraskasar.org
SUMMARY:Lincoln Chapter Meeting
DESCRIPTION:
URL:https://nebraskasar.org/event/lincoln-chapter-meeting-8/
LOCATION:Gere Branch Library\, 2400 S 56th St\, Lincoln\, NE\, 68506
CATEGORIES:Lincoln Chapter
END:VEVENT
BEGIN:VEVENT
DTSTART;TZID=UTC:20250301T110000
DTEND;TZID=UTC:20250301T130000
DTSTAMP:20260423T174214
CREATED:20250202T224659Z
LAST-MODIFIED:20250202T224659Z
UID:477-1740826800-1740834000@nebraskasar.org
SUMMARY:Lincoln Chapter Meeting
DESCRIPTION:
URL:https://nebraskasar.org/event/lincoln-chapter-meeting-7/
LOCATION:Gere Branch Library\, 2400 S 56th St\, Lincoln\, NE\, 68506
CATEGORIES:Lincoln Chapter
END:VEVENT
BEGIN:VEVENT
DTSTART;TZID=UTC:20250201T110000
DTEND;TZID=UTC:20250201T130000
DTSTAMP:20260423T174214
CREATED:20241231T190823Z
LAST-MODIFIED:20241231T190823Z
UID:464-1738407600-1738414800@nebraskasar.org
SUMMARY:Lincoln Chapter Meeting
DESCRIPTION:
URL:https://nebraskasar.org/event/lincoln-chapter-meeting-6/
LOCATION:Gere Branch Library\, 2400 S 56th St\, Lincoln\, NE\, 68506
CATEGORIES:Lincoln Chapter
END:VEVENT
BEGIN:VEVENT
DTSTART;TZID=UTC:20250104T110000
DTEND;TZID=UTC:20250104T130000
DTSTAMP:20260423T174214
CREATED:20241231T185831Z
LAST-MODIFIED:20241231T185831Z
UID:455-1735988400-1735995600@nebraskasar.org
SUMMARY:Lincoln Chapter Meeting
DESCRIPTION:
URL:https://nebraskasar.org/event/lincoln-chapter-meeting-5/
LOCATION:Gere Branch Library\, 2400 S 56th St\, Lincoln\, NE\, 68506
CATEGORIES:Lincoln Chapter
END:VEVENT
BEGIN:VEVENT
DTSTART;TZID=UTC:20241207T110000
DTEND;TZID=UTC:20241207T130000
DTSTAMP:20260423T174214
CREATED:20241001T004936Z
LAST-MODIFIED:20241001T131232Z
UID:405-1733569200-1733576400@nebraskasar.org
SUMMARY:Lincoln Chapter Meeting
DESCRIPTION:
URL:https://nebraskasar.org/event/lincoln-chapter-meeting-4/
LOCATION:Gere Branch Library\, 2400 S 56th St\, Lincoln\, NE\, 68506
CATEGORIES:Lincoln Chapter
END:VEVENT
BEGIN:VEVENT
DTSTART;TZID=UTC:20241102T110000
DTEND;TZID=UTC:20241102T130000
DTSTAMP:20260423T174214
CREATED:20241001T004149Z
LAST-MODIFIED:20241001T131200Z
UID:397-1730545200-1730552400@nebraskasar.org
SUMMARY:Lincoln Chapter Meeting
DESCRIPTION:
URL:https://nebraskasar.org/event/lincoln-chapter-meeting-3/
LOCATION:Gere Branch Library\, 2400 S 56th St\, Lincoln\, NE\, 68506
CATEGORIES:Lincoln Chapter
END:VEVENT
BEGIN:VEVENT
DTSTART;TZID=UTC:20241005T110000
DTEND;TZID=UTC:20241005T130000
DTSTAMP:20260423T174214
CREATED:20240914T205306Z
LAST-MODIFIED:20241001T131105Z
UID:278-1728126000-1728133200@nebraskasar.org
SUMMARY:Lincoln Chapter Meeting
DESCRIPTION:
URL:https://nebraskasar.org/event/lincoln-chapter-meeting-2/
LOCATION:Gere Branch Library\, 2400 S 56th St\, Lincoln\, NE\, 68506
CATEGORIES:Lincoln Chapter
END:VEVENT
BEGIN:VEVENT
DTSTART;TZID=UTC:20240907T110000
DTEND;TZID=UTC:20240907T130000
DTSTAMP:20260423T174214
CREATED:20240902T213502Z
LAST-MODIFIED:20240902T213502Z
UID:251-1725706800-1725714000@nebraskasar.org
SUMMARY:Lincoln Chapter Meeting
DESCRIPTION:
URL:https://nebraskasar.org/event/lincoln-chapter-meeting/
LOCATION:Gere Branch Library\, 2400 S 56th St\, Lincoln\, NE\, 68506
CATEGORIES:Lincoln Chapter
END:VEVENT
END:VCALENDAR