BEGIN:VCALENDAR
VERSION:2.0
PRODID:-//Nebraska Society, Sons of the American Revolution - ECPv6.15.20//NONSGML v1.0//EN
CALSCALE:GREGORIAN
METHOD:PUBLISH
X-ORIGINAL-URL:https://nebraskasar.org
X-WR-CALDESC:Events for Nebraska Society, Sons of the American Revolution
REFRESH-INTERVAL;VALUE=DURATION:PT1H
X-Robots-Tag:noindex
X-PUBLISHED-TTL:PT1H
BEGIN:VTIMEZONE
TZID:UTC
BEGIN:STANDARD
TZOFFSETFROM:+0000
TZOFFSETTO:+0000
TZNAME:UTC
DTSTART:20240101T000000
END:STANDARD
END:VTIMEZONE
BEGIN:VEVENT
DTSTART;TZID=UTC:20250513T183000
DTEND;TZID=UTC:20250513T203000
DTSTAMP:20260425T142437
CREATED:20250323T212927Z
LAST-MODIFIED:20250323T212927Z
UID:592-1747161000-1747168200@nebraskasar.org
SUMMARY:Omaha Chapter Meeting
DESCRIPTION:
URL:https://nebraskasar.org/event/omaha-chapter-meeting-9/
LOCATION:Gorat’s Steakhouse\, 4917 Center St\, Omaha\, NE\, 68106
CATEGORIES:Omaha Chapter
END:VEVENT
BEGIN:VEVENT
DTSTART;TZID=UTC:20250909T183000
DTEND;TZID=UTC:20250909T203000
DTSTAMP:20260425T142437
CREATED:20250614T164040Z
LAST-MODIFIED:20250614T164040Z
UID:665-1757442600-1757449800@nebraskasar.org
SUMMARY:Omaha Chapter Meeting
DESCRIPTION:
URL:https://nebraskasar.org/event/omaha-chapter-meeting-10/
LOCATION:Gorat’s Steakhouse\, 4917 Center St\, Omaha\, NE\, 68106
CATEGORIES:Omaha Chapter
END:VEVENT
BEGIN:VEVENT
DTSTART;TZID=UTC:20251111T183000
DTEND;TZID=UTC:20251111T203000
DTSTAMP:20260425T142437
CREATED:20251109T192433Z
LAST-MODIFIED:20251109T192433Z
UID:781-1762885800-1762893000@nebraskasar.org
SUMMARY:Omaha Chapter Meeting
DESCRIPTION:Program:  End of year Review and Nominating Committee will give their report of prospective chapter officers.
URL:https://nebraskasar.org/event/omaha-chapter-meeting-11/
LOCATION:Gorat’s Steakhouse\, 4917 Center St\, Omaha\, NE\, 68106
CATEGORIES:Omaha Chapter
END:VEVENT
BEGIN:VEVENT
DTSTART;TZID=UTC:20251209T183000
DTEND;TZID=UTC:20251209T203000
DTSTAMP:20260425T142437
CREATED:20251109T192928Z
LAST-MODIFIED:20251109T192928Z
UID:789-1765305000-1765312200@nebraskasar.org
SUMMARY:Omaha Chapter Meeting
DESCRIPTION:Program:  Election of Officers for 2026-2027
URL:https://nebraskasar.org/event/omaha-chapter-meeting-12/
LOCATION:Gorat’s Steakhouse\, 4917 Center St\, Omaha\, NE\, 68106
CATEGORIES:Omaha Chapter
END:VEVENT
BEGIN:VEVENT
DTSTART;TZID=UTC:20260113T183000
DTEND;TZID=UTC:20260113T203000
DTSTAMP:20260425T142437
CREATED:20260106T044320Z
LAST-MODIFIED:20260106T050659Z
UID:816-1768329000-1768336200@nebraskasar.org
SUMMARY:Omaha Chapter Meeting
DESCRIPTION:
URL:https://nebraskasar.org/event/omaha-chapter-meeting-13/
LOCATION:Gorat’s Steakhouse\, 4917 Center St\, Omaha\, NE\, 68106
CATEGORIES:Omaha Chapter
END:VEVENT
BEGIN:VEVENT
DTSTART;TZID=UTC:20260210T183000
DTEND;TZID=UTC:20260210T203000
DTSTAMP:20260425T142437
CREATED:20260106T044434Z
LAST-MODIFIED:20260106T050752Z
UID:818-1770748200-1770755400@nebraskasar.org
SUMMARY:Omaha Chapter Meeting
DESCRIPTION:
URL:https://nebraskasar.org/event/omaha-chapter-meeting-14/
LOCATION:Gorat’s Steakhouse\, 4917 Center St\, Omaha\, NE\, 68106
CATEGORIES:Omaha Chapter
END:VEVENT
BEGIN:VEVENT
DTSTART;TZID=UTC:20260310T183000
DTEND;TZID=UTC:20260310T203000
DTSTAMP:20260425T142437
CREATED:20260106T051133Z
LAST-MODIFIED:20260106T051133Z
UID:825-1773167400-1773174600@nebraskasar.org
SUMMARY:Omaha Chapter Meeting
DESCRIPTION:
URL:https://nebraskasar.org/event/omaha-chapter-meeting-15/
LOCATION:Gorat’s Steakhouse\, 4917 Center St\, Omaha\, NE\, 68106
CATEGORIES:Omaha Chapter
END:VEVENT
BEGIN:VEVENT
DTSTART;TZID=UTC:20260414T183000
DTEND;TZID=UTC:20260414T203000
DTSTAMP:20260425T142437
CREATED:20260106T051611Z
LAST-MODIFIED:20260106T051611Z
UID:829-1776191400-1776198600@nebraskasar.org
SUMMARY:Omaha Chapter Meeting
DESCRIPTION:
URL:https://nebraskasar.org/event/omaha-chapter-meeting-16/
LOCATION:Gorat’s Steakhouse\, 4917 Center St\, Omaha\, NE\, 68106
CATEGORIES:Omaha Chapter
END:VEVENT
BEGIN:VEVENT
DTSTART;TZID=UTC:20260507T170000
DTEND;TZID=UTC:20260507T200000
DTSTAMP:20260425T142437
CREATED:20260331T215622Z
LAST-MODIFIED:20260331T215622Z
UID:879-1778173200-1778184000@nebraskasar.org
SUMMARY:Revolution Rediscovered:  Bringing 1776 to Life
DESCRIPTION:Special event at the Durham Museum featuring Ken Burns’ documentary\, a panel discussion that includes Nebraska compatriot Dr. Jim Sly\, and a pop-up exhibit of Revolution-era items sponsored by the Nebraska SAR!
URL:https://nebraskasar.org/event/revolution-rediscovered-bringing-1776-to-life/
LOCATION:Durham Museum\, 801 South 10th\, Omaha\, NE\, 68108\, United States
CATEGORIES:Color Guard,Omaha Chapter,State Event
END:VEVENT
BEGIN:VEVENT
DTSTART;TZID=UTC:20260512T183000
DTEND;TZID=UTC:20260512T203000
DTSTAMP:20260425T142437
CREATED:20260331T214521Z
LAST-MODIFIED:20260331T214521Z
UID:875-1778610600-1778617800@nebraskasar.org
SUMMARY:Omaha Chapter Meeting
DESCRIPTION:
URL:https://nebraskasar.org/event/omaha-chapter-meeting-17/
LOCATION:Gorat’s Steakhouse\, 4917 Center St\, Omaha\, NE\, 68106
CATEGORIES:Omaha Chapter
END:VEVENT
END:VCALENDAR