BEGIN:VCALENDAR
VERSION:2.0
PRODID:-//Nebraska Society, Sons of the American Revolution - ECPv6.15.20//NONSGML v1.0//EN
CALSCALE:GREGORIAN
METHOD:PUBLISH
X-ORIGINAL-URL:https://nebraskasar.org
X-WR-CALDESC:Events for Nebraska Society, Sons of the American Revolution
REFRESH-INTERVAL;VALUE=DURATION:PT1H
X-Robots-Tag:noindex
X-PUBLISHED-TTL:PT1H
BEGIN:VTIMEZONE
TZID:UTC
BEGIN:STANDARD
TZOFFSETFROM:+0000
TZOFFSETTO:+0000
TZNAME:UTC
DTSTART:20240101T000000
END:STANDARD
END:VTIMEZONE
BEGIN:VEVENT
DTSTART;TZID=UTC:20251113T130000
DTEND;TZID=UTC:20251113T150000
DTSTAMP:20260423T235057
CREATED:20251109T192522Z
LAST-MODIFIED:20251109T192522Z
UID:783-1763038800-1763046000@nebraskasar.org
SUMMARY:Platte River Chapter Meeting
DESCRIPTION:
URL:https://nebraskasar.org/event/platte-river-chapter-meeting-9/
LOCATION:Lincoln County Historical Museum\, 2403 N Buffalo Bill Ave.\, North Platte\, NE\, 69101\, United States
CATEGORIES:Platte River Chapter
END:VEVENT
END:VCALENDAR