BEGIN:VCALENDAR
VERSION:2.0
PRODID:-//Nebraska Society, Sons of the American Revolution - ECPv6.15.20//NONSGML v1.0//EN
CALSCALE:GREGORIAN
METHOD:PUBLISH
X-WR-CALNAME:Nebraska Society, Sons of the American Revolution
X-ORIGINAL-URL:https://nebraskasar.org
X-WR-CALDESC:Events for Nebraska Society, Sons of the American Revolution
REFRESH-INTERVAL;VALUE=DURATION:PT1H
X-Robots-Tag:noindex
X-PUBLISHED-TTL:PT1H
BEGIN:VTIMEZONE
TZID:UTC
BEGIN:STANDARD
TZOFFSETFROM:+0000
TZOFFSETTO:+0000
TZNAME:UTC
DTSTART:20230101T000000
END:STANDARD
END:VTIMEZONE
BEGIN:VEVENT
DTSTART;TZID=UTC:20260419T140000
DTEND;TZID=UTC:20260419T163000
DTSTAMP:20260423T174736
CREATED:20251109T193306Z
LAST-MODIFIED:20260331T214335Z
UID:793-1776607200-1776616200@nebraskasar.org
SUMMARY:Spring State Meeting
DESCRIPTION:Recognition of Compatriots and Youth Awards; Officer and Committee Reports; Installation of new State Officers for 2026-2027
URL:https://nebraskasar.org/event/spring-state-meeting-2/
LOCATION:Mahoney State Park\, 28500 W. Park Highway\, Ashland\, NE\, 68003\, United States
CATEGORIES:Color Guard,State Event
END:VEVENT
BEGIN:VEVENT
DTSTART;TZID=UTC:20260411T110000
DTEND;TZID=UTC:20260411T133000
DTSTAMP:20260423T174736
CREATED:20251109T193423Z
LAST-MODIFIED:20251109T193423Z
UID:795-1775905200-1775914200@nebraskasar.org
SUMMARY:Spring Board of Managers Meeting
DESCRIPTION:
URL:https://nebraskasar.org/event/spring-board-of-managers-meeting/
LOCATION:Sean O’Casey’s Pub and Grill\, 2523 S. 140th Ave\, Omaha\, NE\, 68144\, United States
CATEGORIES:State Event
END:VEVENT
BEGIN:VEVENT
DTSTART;TZID=UTC:20251213T110000
DTEND;TZID=UTC:20251213T130000
DTSTAMP:20260423T174736
CREATED:20251109T192832Z
LAST-MODIFIED:20251109T192832Z
UID:787-1765623600-1765630800@nebraskasar.org
SUMMARY:Wreaths Across America
DESCRIPTION:Annual Wreaths Across America event and ceremonies at various cemeteries around the State of Nebraska – Come out and volunteer!
URL:https://nebraskasar.org/event/wreaths-across-america-3/
LOCATION:Statewide Cemeteries\, NE\, United States
CATEGORIES:Color Guard,State Event
END:VEVENT
BEGIN:VEVENT
DTSTART;TZID=UTC:20251025T130000
DTEND;TZID=UTC:20251025T160000
DTSTAMP:20260423T174736
CREATED:20250806T005456Z
LAST-MODIFIED:20250806T005456Z
UID:757-1761397200-1761408000@nebraskasar.org
SUMMARY:Girl Scouts Fun with Flags Event
DESCRIPTION:An event put on by the Girl Scouts to teach the scouts about proper flag procedures\, history\, care\, and importance of following the flag code.
URL:https://nebraskasar.org/event/girl-scouts-fun-with-flags-event/
LOCATION:Camp Catron\, 609 N. 60th Rd.\, Nebraska City\, NE\, 68410\, United States
CATEGORIES:Color Guard,State Event
END:VEVENT
BEGIN:VEVENT
DTSTART;TZID=UTC:20250907T140000
DTEND;TZID=UTC:20250907T170000
DTSTAMP:20260423T174736
CREATED:20250614T163909Z
LAST-MODIFIED:20250614T163909Z
UID:661-1757253600-1757264400@nebraskasar.org
SUMMARY:Fall State Meeting
DESCRIPTION:The Nebraska SAR will meet for their Fall State Meeting. \nElections will be held for the 2026-2027 term of office.
URL:https://nebraskasar.org/event/fall-state-meeting/
LOCATION:Mahoney State Park\, 28500 W. Park Highway\, Ashland\, NE\, 68003\, United States
CATEGORIES:State Event
END:VEVENT
BEGIN:VEVENT
DTSTART;TZID=UTC:20250830T100000
DTEND;TZID=UTC:20250830T140000
DTSTAMP:20260423T174736
CREATED:20250806T004943Z
LAST-MODIFIED:20250806T004943Z
UID:751-1756548000-1756562400@nebraskasar.org
SUMMARY:Living History Extravaganza
DESCRIPTION:Living History Fair at Homestead National Monument in Beatrice\, NE\, highlighting our history through living history exhibits and displays.
URL:https://nebraskasar.org/event/living-history-extravaganza/
LOCATION:Homestead National Monument\, 8523 West State Highway 4\, Beatrice\, NE\, 68130\, United States
CATEGORIES:State Event
END:VEVENT
BEGIN:VEVENT
DTSTART;TZID=UTC:20250823T110000
DTEND;TZID=UTC:20250823T140000
DTSTAMP:20260423T174736
CREATED:20250614T163732Z
LAST-MODIFIED:20250614T163732Z
UID:659-1755946800-1755957600@nebraskasar.org
SUMMARY:Fall Board of Managers Meeting
DESCRIPTION:
URL:https://nebraskasar.org/event/fall-board-of-managers-meeting/
LOCATION:Sean O’Casey’s Pub and Grill\, 2523 S. 140th Ave\, Omaha\, NE\, 68144\, United States
CATEGORIES:State Event
END:VEVENT
BEGIN:VEVENT
DTSTART;TZID=UTC:20250809T103000
DTEND;TZID=UTC:20250809T233000
DTSTAMP:20260423T174736
CREATED:20250710T173821Z
LAST-MODIFIED:20250710T173821Z
UID:741-1754735400-1754782200@nebraskasar.org
SUMMARY:Compatriot Grave Marking - Real Son Samuel Goodale
DESCRIPTION:The Nebraska SAR will be marking the gravesite of Compatriot Samuel Goodale (#4633\, NE #33)\, who was a “Real Son”.  His father\, Chester Goodale\, was a Private with the Connecticut Troops during the Revolutionary War.
URL:https://nebraskasar.org/event/compatriot-grave-marking-real-son-samuel-goodale/
LOCATION:Columbus Cemetery\, 1060 12th Ave\, Columbus\, NE\, 68601\, United States
CATEGORIES:Color Guard,State Event
END:VEVENT
BEGIN:VEVENT
DTSTART;TZID=UTC:20250426T110000
DTEND;TZID=UTC:20250426T150000
DTSTAMP:20260423T174736
CREATED:20250323T212649Z
LAST-MODIFIED:20250323T212807Z
UID:586-1745665200-1745679600@nebraskasar.org
SUMMARY:Liberty Tree Dedication - America 250
DESCRIPTION:We are dedicating a Liberty Tree in Lexington\, NE\, in honor of the 250th Anniversary of the Battle of Lexington and Concord and “The Shot Heard Round the World”.
URL:https://nebraskasar.org/event/liberty-tree-dedication/
LOCATION:Lexington\, NE\, Lexington\, NE\, United States
CATEGORIES:State Event
END:VEVENT
BEGIN:VEVENT
DTSTART;TZID=UTC:20250329T110000
DTEND;TZID=UTC:20250329T140000
DTSTAMP:20260423T174736
CREATED:20250323T211935Z
LAST-MODIFIED:20250323T211935Z
UID:574-1743246000-1743256800@nebraskasar.org
SUMMARY:Board of Managers Meeting
DESCRIPTION:Spring Board of Managers Meeting
URL:https://nebraskasar.org/event/board-of-managers-meeting/
LOCATION:Sean O’Casey’s Pub and Grill\, 2523 S. 140th Ave\, Omaha\, NE\, 68144\, United States
CATEGORIES:State Event
END:VEVENT
BEGIN:VEVENT
DTSTART;TZID=UTC:20250313T133000
DTEND;TZID=UTC:20250313T153000
DTSTAMP:20260423T174736
CREATED:20250202T224535Z
LAST-MODIFIED:20250202T224535Z
UID:474-1741872600-1741879800@nebraskasar.org
SUMMARY:Declaration of Independence Signing Event
DESCRIPTION:Declaration of Independence Signing Event with the Governor and members of the Unicameral for the SAR Declaration Project for 2026.
URL:https://nebraskasar.org/event/declaration-of-independence-signing-event/
LOCATION:Nebraska State Capitol Rotunda\, 1445 K St\, Lincoln\, NE\, 68508\, United States
CATEGORIES:State Event
END:VEVENT
BEGIN:VEVENT
DTSTART;TZID=UTC:20250222T110000
DTEND;TZID=UTC:20250222T140000
DTSTAMP:20260423T174736
CREATED:20241231T190612Z
LAST-MODIFIED:20250202T231051Z
UID:459-1740222000-1740232800@nebraskasar.org
SUMMARY:American Heritage Banquet
DESCRIPTION:Color Guard will participate in this event
URL:https://nebraskasar.org/event/american-heritage-banquet/
LOCATION:Havelock Social Hall\, 4538 N 62nd St\, Lincoln\, NE\, 68507\, United States
CATEGORIES:State Event
END:VEVENT
BEGIN:VEVENT
DTSTART;TZID=UTC:20241110T140000
DTEND;TZID=UTC:20241110T160000
DTSTAMP:20260423T174736
CREATED:20241001T004601Z
LAST-MODIFIED:20241001T143632Z
UID:399-1731247200-1731254400@nebraskasar.org
SUMMARY:Lincoln Veteran's Day Parade
DESCRIPTION:
URL:https://nebraskasar.org/event/lincoln-veterans-day-parade/
LOCATION:Downtown Lincoln\, 21st & K St\, Lincoln\, NE\, United States
CATEGORIES:Color Guard,State Event
END:VEVENT
END:VCALENDAR