BEGIN:VCALENDAR
VERSION:2.0
PRODID:-//Nebraska Society, Sons of the American Revolution - ECPv6.15.20//NONSGML v1.0//EN
CALSCALE:GREGORIAN
METHOD:PUBLISH
X-ORIGINAL-URL:https://nebraskasar.org
X-WR-CALDESC:Events for Nebraska Society, Sons of the American Revolution
REFRESH-INTERVAL;VALUE=DURATION:PT1H
X-Robots-Tag:noindex
X-PUBLISHED-TTL:PT1H
BEGIN:VTIMEZONE
TZID:UTC
BEGIN:STANDARD
TZOFFSETFROM:+0000
TZOFFSETTO:+0000
TZNAME:UTC
DTSTART:20230101T000000
END:STANDARD
END:VTIMEZONE
BEGIN:VEVENT
DTSTART;TZID=UTC:20250227T000000
DTEND;TZID=UTC:20250301T235959
DTSTAMP:20260423T223336
CREATED:20241231T190710Z
LAST-MODIFIED:20241231T190710Z
UID:462-1740614400-1740873599@nebraskasar.org
SUMMARY:Spring Leadership Meetings
DESCRIPTION:
URL:https://nebraskasar.org/event/spring-leadership-meetings/
LOCATION:The Galt House Hotel\, 140 N Fourth St\, Louisville\, KY\, 40202\, United States
CATEGORIES:National Event
END:VEVENT
BEGIN:VEVENT
DTSTART;TZID=UTC:20250222T110000
DTEND;TZID=UTC:20250222T140000
DTSTAMP:20260423T223336
CREATED:20241231T190612Z
LAST-MODIFIED:20250202T231051Z
UID:459-1740222000-1740232800@nebraskasar.org
SUMMARY:American Heritage Banquet
DESCRIPTION:Color Guard will participate in this event
URL:https://nebraskasar.org/event/american-heritage-banquet/
LOCATION:Havelock Social Hall\, 4538 N 62nd St\, Lincoln\, NE\, 68507\, United States
CATEGORIES:State Event
END:VEVENT
BEGIN:VEVENT
DTSTART;TZID=UTC:20250211T183000
DTEND;TZID=UTC:20250211T203000
DTSTAMP:20260423T223336
CREATED:20241231T190859Z
LAST-MODIFIED:20241231T190859Z
UID:466-1739298600-1739305800@nebraskasar.org
SUMMARY:Omaha Chapter Meeting
DESCRIPTION:
URL:https://nebraskasar.org/event/omaha-chapter-meeting-6/
LOCATION:Gorat’s Steakhouse\, 4917 Center St\, Omaha\, NE\, 68106
CATEGORIES:Omaha Chapter
END:VEVENT
BEGIN:VEVENT
DTSTART;TZID=UTC:20250201T110000
DTEND;TZID=UTC:20250201T130000
DTSTAMP:20260423T223336
CREATED:20241231T190823Z
LAST-MODIFIED:20241231T190823Z
UID:464-1738407600-1738414800@nebraskasar.org
SUMMARY:Lincoln Chapter Meeting
DESCRIPTION:
URL:https://nebraskasar.org/event/lincoln-chapter-meeting-6/
LOCATION:Gere Branch Library\, 2400 S 56th St\, Lincoln\, NE\, 68506
CATEGORIES:Lincoln Chapter
END:VEVENT
BEGIN:VEVENT
DTSTART;TZID=UTC:20250114T183000
DTEND;TZID=UTC:20250114T203000
DTSTAMP:20260423T223336
CREATED:20241231T185924Z
LAST-MODIFIED:20241231T185924Z
UID:457-1736879400-1736886600@nebraskasar.org
SUMMARY:Omaha Chapter Meeting
DESCRIPTION:
URL:https://nebraskasar.org/event/omaha-chapter-meeting-5/
LOCATION:Gorat’s Steakhouse\, 4917 Center St\, Omaha\, NE\, 68106
CATEGORIES:Omaha Chapter
END:VEVENT
BEGIN:VEVENT
DTSTART;TZID=UTC:20250104T110000
DTEND;TZID=UTC:20250104T130000
DTSTAMP:20260423T223336
CREATED:20241231T185831Z
LAST-MODIFIED:20241231T185831Z
UID:455-1735988400-1735995600@nebraskasar.org
SUMMARY:Lincoln Chapter Meeting
DESCRIPTION:
URL:https://nebraskasar.org/event/lincoln-chapter-meeting-5/
LOCATION:Gere Branch Library\, 2400 S 56th St\, Lincoln\, NE\, 68506
CATEGORIES:Lincoln Chapter
END:VEVENT
BEGIN:VEVENT
DTSTART;TZID=UTC:20241214T110000
DTEND;TZID=UTC:20241214T130000
DTSTAMP:20260423T223336
CREATED:20241204T223236Z
LAST-MODIFIED:20241204T223236Z
UID:446-1734174000-1734181200@nebraskasar.org
SUMMARY:Wreaths Across America
DESCRIPTION:Color Guard event – Posting the colors for the WAA ceremony at Prospect Hill.
URL:https://nebraskasar.org/event/wreaths-across-america-2/
LOCATION:Prospect Hill Cemetery\, 3202 Parker St\, Omaha\, NE\, 68111\, United States
CATEGORIES:Color Guard
END:VEVENT
BEGIN:VEVENT
DTSTART;TZID=UTC:20241214T110000
DTEND;TZID=UTC:20241214T120000
DTSTAMP:20260423T223336
CREATED:20241001T004855Z
LAST-MODIFIED:20241001T004855Z
UID:402-1734174000-1734177600@nebraskasar.org
SUMMARY:Wreaths Across America
DESCRIPTION:
URL:https://nebraskasar.org/event/wreaths-across-america/
LOCATION:Statewide Cemeteries\, NE\, United States
CATEGORIES:National Event
END:VEVENT
BEGIN:VEVENT
DTSTART;TZID=UTC:20241212T130000
DTEND;TZID=UTC:20241212T143000
DTSTAMP:20260423T223336
CREATED:20241022T232920Z
LAST-MODIFIED:20241022T232920Z
UID:440-1734008400-1734013800@nebraskasar.org
SUMMARY:Platte River Chapter Meeting
DESCRIPTION:This meeting will be on Zoom for the chapter members.
URL:https://nebraskasar.org/event/platte-river-chapter-meeting-2/
LOCATION:NE
CATEGORIES:Platte River Chapter
END:VEVENT
BEGIN:VEVENT
DTSTART;TZID=UTC:20241210T183000
DTEND;TZID=UTC:20241210T203000
DTSTAMP:20260423T223336
CREATED:20241001T005031Z
LAST-MODIFIED:20241001T005031Z
UID:407-1733855400-1733862600@nebraskasar.org
SUMMARY:Omaha Chapter Meeting
DESCRIPTION:Program:  Year in Review and Chapter Awards Night
URL:https://nebraskasar.org/event/omaha-chapter-meeting-4/
LOCATION:Gorat’s Steakhouse\, 4917 Center St\, Omaha\, NE\, 68106
CATEGORIES:Omaha Chapter
END:VEVENT
BEGIN:VEVENT
DTSTART;TZID=UTC:20241207T110000
DTEND;TZID=UTC:20241207T130000
DTSTAMP:20260423T223336
CREATED:20241001T004936Z
LAST-MODIFIED:20241001T131232Z
UID:405-1733569200-1733576400@nebraskasar.org
SUMMARY:Lincoln Chapter Meeting
DESCRIPTION:
URL:https://nebraskasar.org/event/lincoln-chapter-meeting-4/
LOCATION:Gere Branch Library\, 2400 S 56th St\, Lincoln\, NE\, 68506
CATEGORIES:Lincoln Chapter
END:VEVENT
BEGIN:VEVENT
DTSTART;TZID=UTC:20241207T100000
DTEND;TZID=UTC:20241207T120000
DTSTAMP:20260423T223336
CREATED:20241204T222952Z
LAST-MODIFIED:20241204T222952Z
UID:442-1733565600-1733572800@nebraskasar.org
SUMMARY:Salvation Army Bell Ringing
DESCRIPTION:Omaha Members participating in community service this holiday season\, ringing bells for the Salvation Army.
URL:https://nebraskasar.org/event/salvation-army-bell-ringing/
LOCATION:Hy-Vee Supermarket\, 14591 Stony Brook Boulevard\, Omaha\, NE\, 68137\, United States
CATEGORIES:Omaha Chapter
END:VEVENT
BEGIN:VEVENT
DTSTART;TZID=UTC:20241114T130000
DTEND;TZID=UTC:20241114T143000
DTSTAMP:20260423T223336
CREATED:20241022T232827Z
LAST-MODIFIED:20241022T232827Z
UID:438-1731589200-1731594600@nebraskasar.org
SUMMARY:Platte River Chapter Meeting
DESCRIPTION:This meeting will be on Zoom for the chapter members.
URL:https://nebraskasar.org/event/platte-river-chapter-meeting/
LOCATION:NE
CATEGORIES:Platte River Chapter
END:VEVENT
BEGIN:VEVENT
DTSTART;TZID=UTC:20241112T183000
DTEND;TZID=UTC:20241112T203000
DTSTAMP:20260423T223336
CREATED:20241001T004101Z
LAST-MODIFIED:20241001T004101Z
UID:395-1731436200-1731443400@nebraskasar.org
SUMMARY:Omaha Chapter Meeting
DESCRIPTION:
URL:https://nebraskasar.org/event/omaha-chapter-meeting-3/
LOCATION:Gorat’s Steakhouse\, 4917 Center St\, Omaha\, NE\, 68106
CATEGORIES:Omaha Chapter
END:VEVENT
BEGIN:VEVENT
DTSTART;TZID=UTC:20241110T140000
DTEND;TZID=UTC:20241110T160000
DTSTAMP:20260423T223336
CREATED:20241001T004601Z
LAST-MODIFIED:20241001T143632Z
UID:399-1731247200-1731254400@nebraskasar.org
SUMMARY:Lincoln Veteran's Day Parade
DESCRIPTION:
URL:https://nebraskasar.org/event/lincoln-veterans-day-parade/
LOCATION:Downtown Lincoln\, 21st & K St\, Lincoln\, NE\, United States
CATEGORIES:Color Guard,State Event
END:VEVENT
BEGIN:VEVENT
DTSTART;TZID=UTC:20241102T110000
DTEND;TZID=UTC:20241102T130000
DTSTAMP:20260423T223336
CREATED:20241001T004149Z
LAST-MODIFIED:20241001T131200Z
UID:397-1730545200-1730552400@nebraskasar.org
SUMMARY:Lincoln Chapter Meeting
DESCRIPTION:
URL:https://nebraskasar.org/event/lincoln-chapter-meeting-3/
LOCATION:Gere Branch Library\, 2400 S 56th St\, Lincoln\, NE\, 68506
CATEGORIES:Lincoln Chapter
END:VEVENT
BEGIN:VEVENT
DTSTART;TZID=UTC:20241026T110000
DTEND;TZID=UTC:20241026T123000
DTSTAMP:20260423T223336
CREATED:20240930T235409Z
LAST-MODIFIED:20240930T235409Z
UID:385-1729940400-1729945800@nebraskasar.org
SUMMARY:Sons of the American Legion - Trunk-or-Treat
DESCRIPTION:
URL:https://nebraskasar.org/event/sons-of-the-american-legion-trunk-or-treat/
LOCATION:VFW Post #2503\, 8904 Military Road\, Omaha\, NE\, 68134\, United States
CATEGORIES:Omaha Chapter
END:VEVENT
BEGIN:VEVENT
DTSTART;TZID=UTC:20241010T000000
DTEND;TZID=UTC:20241010T235959
DTSTAMP:20260423T223336
CREATED:20240930T234919Z
LAST-MODIFIED:20240930T234919Z
UID:382-1728518400-1728604799@nebraskasar.org
SUMMARY:250th Anniversary - Battle of Point Pleasant
DESCRIPTION:The National Society\, Sons of the American Revolution commemoration of the 250th Anniversary of the Battle of Point Pleasant
URL:https://nebraskasar.org/event/250th-anniversary-battle-of-point-pleasant/
LOCATION:Tu-Endie-Wei State Park\, 1 Main Street\, Point Pleasant\, WV\, 25550\, United States
CATEGORIES:National Event
END:VEVENT
BEGIN:VEVENT
DTSTART;TZID=UTC:20241008T183000
DTEND;TZID=UTC:20241008T203000
DTSTAMP:20260423T223336
CREATED:20240914T204612Z
LAST-MODIFIED:20241001T000038Z
UID:273-1728412200-1728419400@nebraskasar.org
SUMMARY:Omaha Chapter Meeting
DESCRIPTION:Program:  The History of the Liberty Tree – Andrew Nehls
URL:https://nebraskasar.org/event/omaha-chapter-meeting-2/
LOCATION:Gorat’s Steakhouse\, 4917 Center St\, Omaha\, NE\, 68106
CATEGORIES:Omaha Chapter
END:VEVENT
BEGIN:VEVENT
DTSTART;TZID=UTC:20241005T110000
DTEND;TZID=UTC:20241005T130000
DTSTAMP:20260423T223336
CREATED:20240914T205306Z
LAST-MODIFIED:20241001T131105Z
UID:278-1728126000-1728133200@nebraskasar.org
SUMMARY:Lincoln Chapter Meeting
DESCRIPTION:
URL:https://nebraskasar.org/event/lincoln-chapter-meeting-2/
LOCATION:Gere Branch Library\, 2400 S 56th St\, Lincoln\, NE\, 68506
CATEGORIES:Lincoln Chapter
END:VEVENT
BEGIN:VEVENT
DTSTART;TZID=UTC:20241003T000000
DTEND;TZID=UTC:20241005T235959
DTSTAMP:20260423T223336
CREATED:20240914T205209Z
LAST-MODIFIED:20240914T205209Z
UID:275-1727913600-1728172799@nebraskasar.org
SUMMARY:Fall Leadership Meetings
DESCRIPTION:
URL:https://nebraskasar.org/event/fall-leadership-meetings/
LOCATION:The Galt House Hotel\, 140 N Fourth St\, Louisville\, KY\, 40202\, United States
CATEGORIES:National Event
END:VEVENT
BEGIN:VEVENT
DTSTART;TZID=UTC:20240911T183000
DTEND;TZID=UTC:20240911T203000
DTSTAMP:20260423T223336
CREATED:20240902T210251Z
LAST-MODIFIED:20240902T210251Z
UID:200-1726079400-1726086600@nebraskasar.org
SUMMARY:Omaha Chapter Meeting
DESCRIPTION:
URL:https://nebraskasar.org/event/omaha-chapter-meeting/
LOCATION:Gorat’s Steakhouse\, 4917 Center St\, Omaha\, NE\, 68106
CATEGORIES:Omaha Chapter
END:VEVENT
BEGIN:VEVENT
DTSTART;TZID=UTC:20240907T110000
DTEND;TZID=UTC:20240907T130000
DTSTAMP:20260423T223336
CREATED:20240902T213502Z
LAST-MODIFIED:20240902T213502Z
UID:251-1725706800-1725714000@nebraskasar.org
SUMMARY:Lincoln Chapter Meeting
DESCRIPTION:
URL:https://nebraskasar.org/event/lincoln-chapter-meeting/
LOCATION:Gere Branch Library\, 2400 S 56th St\, Lincoln\, NE\, 68506
CATEGORIES:Lincoln Chapter
END:VEVENT
BEGIN:VEVENT
DTSTART;TZID=UTC:20240408T080000
DTEND;TZID=UTC:20240408T170000
DTSTAMP:20260423T223336
CREATED:20240407T195706Z
LAST-MODIFIED:20240407T195706Z
UID:92-1712563200-1712595600@nebraskasar.org
SUMMARY:Test
DESCRIPTION:test
URL:https://nebraskasar.org/event/test/
LOCATION:test
END:VEVENT
END:VCALENDAR