BEGIN:VCALENDAR
VERSION:2.0
PRODID:-//Nebraska Society, Sons of the American Revolution - ECPv6.15.20//NONSGML v1.0//EN
CALSCALE:GREGORIAN
METHOD:PUBLISH
X-WR-CALNAME:Nebraska Society, Sons of the American Revolution
X-ORIGINAL-URL:https://nebraskasar.org
X-WR-CALDESC:Events for Nebraska Society, Sons of the American Revolution
REFRESH-INTERVAL;VALUE=DURATION:PT1H
X-Robots-Tag:noindex
X-PUBLISHED-TTL:PT1H
BEGIN:VTIMEZONE
TZID:UTC
BEGIN:STANDARD
TZOFFSETFROM:+0000
TZOFFSETTO:+0000
TZNAME:UTC
DTSTART:20240101T000000
END:STANDARD
END:VTIMEZONE
BEGIN:VEVENT
DTSTART;TZID=UTC:20251206T110000
DTEND;TZID=UTC:20251206T130000
DTSTAMP:20260423T201418
CREATED:20251109T193017Z
LAST-MODIFIED:20251109T193017Z
UID:791-1765018800-1765026000@nebraskasar.org
SUMMARY:Lincoln Chapter Meeting
DESCRIPTION:
URL:https://nebraskasar.org/event/lincoln-chapter-meeting-13/
LOCATION:Gere Branch Library\, 2400 S 56th St\, Lincoln\, NE\, 68506
CATEGORIES:Lincoln Chapter
END:VEVENT
BEGIN:VEVENT
DTSTART;TZID=UTC:20251209T183000
DTEND;TZID=UTC:20251209T203000
DTSTAMP:20260423T201418
CREATED:20251109T192928Z
LAST-MODIFIED:20251109T192928Z
UID:789-1765305000-1765312200@nebraskasar.org
SUMMARY:Omaha Chapter Meeting
DESCRIPTION:Program:  Election of Officers for 2026-2027
URL:https://nebraskasar.org/event/omaha-chapter-meeting-12/
LOCATION:Gorat’s Steakhouse\, 4917 Center St\, Omaha\, NE\, 68106
CATEGORIES:Omaha Chapter
END:VEVENT
BEGIN:VEVENT
DTSTART;TZID=UTC:20251213T110000
DTEND;TZID=UTC:20251213T130000
DTSTAMP:20260423T201418
CREATED:20251109T192832Z
LAST-MODIFIED:20251109T192832Z
UID:787-1765623600-1765630800@nebraskasar.org
SUMMARY:Wreaths Across America
DESCRIPTION:Annual Wreaths Across America event and ceremonies at various cemeteries around the State of Nebraska – Come out and volunteer!
URL:https://nebraskasar.org/event/wreaths-across-america-3/
LOCATION:Statewide Cemeteries\, NE\, United States
CATEGORIES:Color Guard,State Event
END:VEVENT
END:VCALENDAR